<?xml version="1.0"?>
<Capabilities xmlns="http://www.opengis.net/wmts/1.0" xmlns:ows="http://www.opengis.net/ows/1.1" xmlns:xlink="http://www.w3.org/1999/xlink" xmlns:xsi="http://www.w3.org/2001/XMLSchema-instance" xmlns:gml="http://www.opengis.net/gml" xsi:schemaLocation="http://www.opengis.net/wmts/1.0 http://schemas.opengis.net/wmts/1.0/wmtsGetCapabilities_response.xsd" version="1.0.0">
  <ows:ServiceIdentification>
    <ows:Title>WebGIS - Layer BMKG (SPARTAN dan Asap)</ows:Title>
    <ows:Abstract>Proxy/cache layer SPARTAN dan Himawari-9 BMKG.</ows:Abstract>
    <ows:ServiceType>OGC WMTS</ows:ServiceType>
    <ows:ServiceTypeVersion>1.0.0</ows:ServiceTypeVersion>
    <ows:Fees>none</ows:Fees>
    <ows:AccessConstraints>Sumber data: BMKG.</ows:AccessConstraints>
  </ows:ServiceIdentification>
  <Contents>
    <Layer>
      <ows:Title>FFMC - Kemudahan terjadinya kebakaran (lapisan atas) (Prakiraan, 06-10-2026)</ows:Title>
      <ows:Abstract></ows:Abstract>
      <ows:WGS84BoundingBox>
        <ows:LowerCorner>90.0 -15.0</ows:LowerCorner>
        <ows:UpperCorner>145.0 25.0</ows:UpperCorner>
      </ows:WGS84BoundingBox>
      <ows:Identifier>spartan_ffmc</ows:Identifier>
      <Style>
        <ows:Identifier>default</ows:Identifier>
      </Style>
      <Format>image/png</Format>
      <TileMatrixSetLink>
        <TileMatrixSet>bmkg_tms</TileMatrixSet>
      </TileMatrixSetLink>
      <ResourceURL format="image/png" resourceType="tile"
        template="https://peta.odk-online.my.id/wmts/spartan_ffmc/{TileMatrixSet}/{TileMatrix}/{TileCol}/{TileRow}.png"/>
    </Layer>
    <Layer>
      <ows:Title>DMC - Kekeringan lapisan menengah (Prakiraan, 06-10-2026)</ows:Title>
      <ows:Abstract></ows:Abstract>
      <ows:WGS84BoundingBox>
        <ows:LowerCorner>90.0 -15.0</ows:LowerCorner>
        <ows:UpperCorner>145.0 25.0</ows:UpperCorner>
      </ows:WGS84BoundingBox>
      <ows:Identifier>spartan_dmc</ows:Identifier>
      <Style>
        <ows:Identifier>default</ows:Identifier>
      </Style>
      <Format>image/png</Format>
      <TileMatrixSetLink>
        <TileMatrixSet>bmkg_tms</TileMatrixSet>
      </TileMatrixSetLink>
      <ResourceURL format="image/png" resourceType="tile"
        template="https://peta.odk-online.my.id/wmts/spartan_dmc/{TileMatrixSet}/{TileMatrix}/{TileCol}/{TileRow}.png"/>
    </Layer>
    <Layer>
      <ows:Title>DC - Indeks kekeringan (lapisan bawah) (Prakiraan, 06-10-2026)</ows:Title>
      <ows:Abstract></ows:Abstract>
      <ows:WGS84BoundingBox>
        <ows:LowerCorner>90.0 -15.0</ows:LowerCorner>
        <ows:UpperCorner>145.0 25.0</ows:UpperCorner>
      </ows:WGS84BoundingBox>
      <ows:Identifier>spartan_dc</ows:Identifier>
      <Style>
        <ows:Identifier>default</ows:Identifier>
      </Style>
      <Format>image/png</Format>
      <TileMatrixSetLink>
        <TileMatrixSet>bmkg_tms</TileMatrixSet>
      </TileMatrixSetLink>
      <ResourceURL format="image/png" resourceType="tile"
        template="https://peta.odk-online.my.id/wmts/spartan_dc/{TileMatrixSet}/{TileMatrix}/{TileCol}/{TileRow}.png"/>
    </Layer>
    <Layer>
      <ows:Title>ISI - Laju penjalaran awal api (Prakiraan, 06-10-2026)</ows:Title>
      <ows:Abstract></ows:Abstract>
      <ows:WGS84BoundingBox>
        <ows:LowerCorner>90.0 -15.0</ows:LowerCorner>
        <ows:UpperCorner>145.0 25.0</ows:UpperCorner>
      </ows:WGS84BoundingBox>
      <ows:Identifier>spartan_isi</ows:Identifier>
      <Style>
        <ows:Identifier>default</ows:Identifier>
      </Style>
      <Format>image/png</Format>
      <TileMatrixSetLink>
        <TileMatrixSet>bmkg_tms</TileMatrixSet>
      </TileMatrixSetLink>
      <ResourceURL format="image/png" resourceType="tile"
        template="https://peta.odk-online.my.id/wmts/spartan_isi/{TileMatrixSet}/{TileMatrix}/{TileCol}/{TileRow}.png"/>
    </Layer>
    <Layer>
      <ows:Title>BUI - Ketersediaan bahan bakar (Prakiraan, 06-10-2026)</ows:Title>
      <ows:Abstract></ows:Abstract>
      <ows:WGS84BoundingBox>
        <ows:LowerCorner>90.0 -15.0</ows:LowerCorner>
        <ows:UpperCorner>145.0 25.0</ows:UpperCorner>
      </ows:WGS84BoundingBox>
      <ows:Identifier>spartan_bui</ows:Identifier>
      <Style>
        <ows:Identifier>default</ows:Identifier>
      </Style>
      <Format>image/png</Format>
      <TileMatrixSetLink>
        <TileMatrixSet>bmkg_tms</TileMatrixSet>
      </TileMatrixSetLink>
      <ResourceURL format="image/png" resourceType="tile"
        template="https://peta.odk-online.my.id/wmts/spartan_bui/{TileMatrixSet}/{TileMatrix}/{TileCol}/{TileRow}.png"/>
    </Layer>
    <Layer>
      <ows:Title>FWI - Indeks bahaya kebakaran (Prakiraan, 06-10-2026)</ows:Title>
      <ows:Abstract></ows:Abstract>
      <ows:WGS84BoundingBox>
        <ows:LowerCorner>90.0 -15.0</ows:LowerCorner>
        <ows:UpperCorner>145.0 25.0</ows:UpperCorner>
      </ows:WGS84BoundingBox>
      <ows:Identifier>spartan_fwi</ows:Identifier>
      <Style>
        <ows:Identifier>default</ows:Identifier>
      </Style>
      <Format>image/png</Format>
      <TileMatrixSetLink>
        <TileMatrixSet>bmkg_tms</TileMatrixSet>
      </TileMatrixSetLink>
      <ResourceURL format="image/png" resourceType="tile"
        template="https://peta.odk-online.my.id/wmts/spartan_fwi/{TileMatrixSet}/{TileMatrix}/{TileCol}/{TileRow}.png"/>
    </Layer>
    <Layer>
      <ows:Title>FFMC - Kemudahan terjadinya kebakaran (lapisan atas) (Observasi, 05-10-2026)</ows:Title>
      <ows:Abstract></ows:Abstract>
      <ows:WGS84BoundingBox>
        <ows:LowerCorner>90.0 -15.0</ows:LowerCorner>
        <ows:UpperCorner>145.0 25.0</ows:UpperCorner>
      </ows:WGS84BoundingBox>
      <ows:Identifier>spartanobs_ffmc</ows:Identifier>
      <Style>
        <ows:Identifier>default</ows:Identifier>
      </Style>
      <Format>image/png</Format>
      <TileMatrixSetLink>
        <TileMatrixSet>bmkg_tms</TileMatrixSet>
      </TileMatrixSetLink>
      <ResourceURL format="image/png" resourceType="tile"
        template="https://peta.odk-online.my.id/wmts/spartanobs_ffmc/{TileMatrixSet}/{TileMatrix}/{TileCol}/{TileRow}.png"/>
    </Layer>
    <Layer>
      <ows:Title>DMC - Kekeringan lapisan menengah (Observasi, 05-10-2026)</ows:Title>
      <ows:Abstract></ows:Abstract>
      <ows:WGS84BoundingBox>
        <ows:LowerCorner>90.0 -15.0</ows:LowerCorner>
        <ows:UpperCorner>145.0 25.0</ows:UpperCorner>
      </ows:WGS84BoundingBox>
      <ows:Identifier>spartanobs_dmc</ows:Identifier>
      <Style>
        <ows:Identifier>default</ows:Identifier>
      </Style>
      <Format>image/png</Format>
      <TileMatrixSetLink>
        <TileMatrixSet>bmkg_tms</TileMatrixSet>
      </TileMatrixSetLink>
      <ResourceURL format="image/png" resourceType="tile"
        template="https://peta.odk-online.my.id/wmts/spartanobs_dmc/{TileMatrixSet}/{TileMatrix}/{TileCol}/{TileRow}.png"/>
    </Layer>
    <Layer>
      <ows:Title>DC - Indeks kekeringan (lapisan bawah) (Observasi, 05-10-2026)</ows:Title>
      <ows:Abstract></ows:Abstract>
      <ows:WGS84BoundingBox>
        <ows:LowerCorner>90.0 -15.0</ows:LowerCorner>
        <ows:UpperCorner>145.0 25.0</ows:UpperCorner>
      </ows:WGS84BoundingBox>
      <ows:Identifier>spartanobs_dc</ows:Identifier>
      <Style>
        <ows:Identifier>default</ows:Identifier>
      </Style>
      <Format>image/png</Format>
      <TileMatrixSetLink>
        <TileMatrixSet>bmkg_tms</TileMatrixSet>
      </TileMatrixSetLink>
      <ResourceURL format="image/png" resourceType="tile"
        template="https://peta.odk-online.my.id/wmts/spartanobs_dc/{TileMatrixSet}/{TileMatrix}/{TileCol}/{TileRow}.png"/>
    </Layer>
    <Layer>
      <ows:Title>ISI - Laju penjalaran awal api (Observasi, 05-10-2026)</ows:Title>
      <ows:Abstract></ows:Abstract>
      <ows:WGS84BoundingBox>
        <ows:LowerCorner>90.0 -15.0</ows:LowerCorner>
        <ows:UpperCorner>145.0 25.0</ows:UpperCorner>
      </ows:WGS84BoundingBox>
      <ows:Identifier>spartanobs_isi</ows:Identifier>
      <Style>
        <ows:Identifier>default</ows:Identifier>
      </Style>
      <Format>image/png</Format>
      <TileMatrixSetLink>
        <TileMatrixSet>bmkg_tms</TileMatrixSet>
      </TileMatrixSetLink>
      <ResourceURL format="image/png" resourceType="tile"
        template="https://peta.odk-online.my.id/wmts/spartanobs_isi/{TileMatrixSet}/{TileMatrix}/{TileCol}/{TileRow}.png"/>
    </Layer>
    <Layer>
      <ows:Title>BUI - Ketersediaan bahan bakar (Observasi, 05-10-2026)</ows:Title>
      <ows:Abstract></ows:Abstract>
      <ows:WGS84BoundingBox>
        <ows:LowerCorner>90.0 -15.0</ows:LowerCorner>
        <ows:UpperCorner>145.0 25.0</ows:UpperCorner>
      </ows:WGS84BoundingBox>
      <ows:Identifier>spartanobs_bui</ows:Identifier>
      <Style>
        <ows:Identifier>default</ows:Identifier>
      </Style>
      <Format>image/png</Format>
      <TileMatrixSetLink>
        <TileMatrixSet>bmkg_tms</TileMatrixSet>
      </TileMatrixSetLink>
      <ResourceURL format="image/png" resourceType="tile"
        template="https://peta.odk-online.my.id/wmts/spartanobs_bui/{TileMatrixSet}/{TileMatrix}/{TileCol}/{TileRow}.png"/>
    </Layer>
    <Layer>
      <ows:Title>FWI - Indeks bahaya kebakaran (Observasi, 05-10-2026)</ows:Title>
      <ows:Abstract></ows:Abstract>
      <ows:WGS84BoundingBox>
        <ows:LowerCorner>90.0 -15.0</ows:LowerCorner>
        <ows:UpperCorner>145.0 25.0</ows:UpperCorner>
      </ows:WGS84BoundingBox>
      <ows:Identifier>spartanobs_fwi</ows:Identifier>
      <Style>
        <ows:Identifier>default</ows:Identifier>
      </Style>
      <Format>image/png</Format>
      <TileMatrixSetLink>
        <TileMatrixSet>bmkg_tms</TileMatrixSet>
      </TileMatrixSetLink>
      <ResourceURL format="image/png" resourceType="tile"
        template="https://peta.odk-online.my.id/wmts/spartanobs_fwi/{TileMatrixSet}/{TileMatrix}/{TileCol}/{TileRow}.png"/>
    </Layer>
    <Layer>
      <ows:Title>Asap Himawari-9 BMKG (2026-10-06T09:50:00Z)</ows:Title>
      <ows:Abstract></ows:Abstract>
      <ows:WGS84BoundingBox>
        <ows:LowerCorner>90.0 -15.0</ows:LowerCorner>
        <ows:UpperCorner>145.0 25.0</ows:UpperCorner>
      </ows:WGS84BoundingBox>
      <ows:Identifier>himawari_asap</ows:Identifier>
      <Style>
        <ows:Identifier>default</ows:Identifier>
      </Style>
      <Format>image/png</Format>
      <TileMatrixSetLink>
        <TileMatrixSet>bmkg_tms</TileMatrixSet>
      </TileMatrixSetLink>
      <ResourceURL format="image/png" resourceType="tile"
        template="https://peta.odk-online.my.id/wmts/himawari_asap/{TileMatrixSet}/{TileMatrix}/{TileCol}/{TileRow}.png"/>
    </Layer>
    <Layer>
      <ows:Title>FFMC - Kemudahan terjadinya kebakaran (lapisan atas) (Prakiraan, 06-10-2026) - Sumsel</ows:Title>
      <ows:Abstract></ows:Abstract>
      <ows:WGS84BoundingBox>
        <ows:LowerCorner>102.06400335533776 -4.921522720580933</ows:LowerCorner>
        <ows:UpperCorner>106.22100032789378 -1.6266919579950174</ows:UpperCorner>
      </ows:WGS84BoundingBox>
      <ows:Identifier>spartan_ffmc_sumsel</ows:Identifier>
      <Style>
        <ows:Identifier>default</ows:Identifier>
      </Style>
      <Format>image/png</Format>
      <TileMatrixSetLink>
        <TileMatrixSet>bmkg_tms</TileMatrixSet>
      </TileMatrixSetLink>
      <ResourceURL format="image/png" resourceType="tile"
        template="https://peta.odk-online.my.id/wmts/spartan_ffmc_sumsel/{TileMatrixSet}/{TileMatrix}/{TileCol}/{TileRow}.png"/>
    </Layer>
    <Layer>
      <ows:Title>DMC - Kekeringan lapisan menengah (Prakiraan, 06-10-2026) - Sumsel</ows:Title>
      <ows:Abstract></ows:Abstract>
      <ows:WGS84BoundingBox>
        <ows:LowerCorner>102.06400335533776 -4.921522720580933</ows:LowerCorner>
        <ows:UpperCorner>106.22100032789378 -1.6266919579950174</ows:UpperCorner>
      </ows:WGS84BoundingBox>
      <ows:Identifier>spartan_dmc_sumsel</ows:Identifier>
      <Style>
        <ows:Identifier>default</ows:Identifier>
      </Style>
      <Format>image/png</Format>
      <TileMatrixSetLink>
        <TileMatrixSet>bmkg_tms</TileMatrixSet>
      </TileMatrixSetLink>
      <ResourceURL format="image/png" resourceType="tile"
        template="https://peta.odk-online.my.id/wmts/spartan_dmc_sumsel/{TileMatrixSet}/{TileMatrix}/{TileCol}/{TileRow}.png"/>
    </Layer>
    <Layer>
      <ows:Title>DC - Indeks kekeringan (lapisan bawah) (Prakiraan, 06-10-2026) - Sumsel</ows:Title>
      <ows:Abstract></ows:Abstract>
      <ows:WGS84BoundingBox>
        <ows:LowerCorner>102.06400335533776 -4.921522720580933</ows:LowerCorner>
        <ows:UpperCorner>106.22100032789378 -1.6266919579950174</ows:UpperCorner>
      </ows:WGS84BoundingBox>
      <ows:Identifier>spartan_dc_sumsel</ows:Identifier>
      <Style>
        <ows:Identifier>default</ows:Identifier>
      </Style>
      <Format>image/png</Format>
      <TileMatrixSetLink>
        <TileMatrixSet>bmkg_tms</TileMatrixSet>
      </TileMatrixSetLink>
      <ResourceURL format="image/png" resourceType="tile"
        template="https://peta.odk-online.my.id/wmts/spartan_dc_sumsel/{TileMatrixSet}/{TileMatrix}/{TileCol}/{TileRow}.png"/>
    </Layer>
    <Layer>
      <ows:Title>ISI - Laju penjalaran awal api (Prakiraan, 06-10-2026) - Sumsel</ows:Title>
      <ows:Abstract></ows:Abstract>
      <ows:WGS84BoundingBox>
        <ows:LowerCorner>102.06400335533776 -4.921522720580933</ows:LowerCorner>
        <ows:UpperCorner>106.22100032789378 -1.6266919579950174</ows:UpperCorner>
      </ows:WGS84BoundingBox>
      <ows:Identifier>spartan_isi_sumsel</ows:Identifier>
      <Style>
        <ows:Identifier>default</ows:Identifier>
      </Style>
      <Format>image/png</Format>
      <TileMatrixSetLink>
        <TileMatrixSet>bmkg_tms</TileMatrixSet>
      </TileMatrixSetLink>
      <ResourceURL format="image/png" resourceType="tile"
        template="https://peta.odk-online.my.id/wmts/spartan_isi_sumsel/{TileMatrixSet}/{TileMatrix}/{TileCol}/{TileRow}.png"/>
    </Layer>
    <Layer>
      <ows:Title>BUI - Ketersediaan bahan bakar (Prakiraan, 06-10-2026) - Sumsel</ows:Title>
      <ows:Abstract></ows:Abstract>
      <ows:WGS84BoundingBox>
        <ows:LowerCorner>102.06400335533776 -4.921522720580933</ows:LowerCorner>
        <ows:UpperCorner>106.22100032789378 -1.6266919579950174</ows:UpperCorner>
      </ows:WGS84BoundingBox>
      <ows:Identifier>spartan_bui_sumsel</ows:Identifier>
      <Style>
        <ows:Identifier>default</ows:Identifier>
      </Style>
      <Format>image/png</Format>
      <TileMatrixSetLink>
        <TileMatrixSet>bmkg_tms</TileMatrixSet>
      </TileMatrixSetLink>
      <ResourceURL format="image/png" resourceType="tile"
        template="https://peta.odk-online.my.id/wmts/spartan_bui_sumsel/{TileMatrixSet}/{TileMatrix}/{TileCol}/{TileRow}.png"/>
    </Layer>
    <Layer>
      <ows:Title>FWI - Indeks bahaya kebakaran (Prakiraan, 06-10-2026) - Sumsel</ows:Title>
      <ows:Abstract></ows:Abstract>
      <ows:WGS84BoundingBox>
        <ows:LowerCorner>102.06400335533776 -4.921522720580933</ows:LowerCorner>
        <ows:UpperCorner>106.22100032789378 -1.6266919579950174</ows:UpperCorner>
      </ows:WGS84BoundingBox>
      <ows:Identifier>spartan_fwi_sumsel</ows:Identifier>
      <Style>
        <ows:Identifier>default</ows:Identifier>
      </Style>
      <Format>image/png</Format>
      <TileMatrixSetLink>
        <TileMatrixSet>bmkg_tms</TileMatrixSet>
      </TileMatrixSetLink>
      <ResourceURL format="image/png" resourceType="tile"
        template="https://peta.odk-online.my.id/wmts/spartan_fwi_sumsel/{TileMatrixSet}/{TileMatrix}/{TileCol}/{TileRow}.png"/>
    </Layer>
    <Layer>
      <ows:Title>FFMC - Kemudahan terjadinya kebakaran (lapisan atas) (Observasi, 05-10-2026) - Sumsel</ows:Title>
      <ows:Abstract></ows:Abstract>
      <ows:WGS84BoundingBox>
        <ows:LowerCorner>102.06400335533776 -4.921522720580933</ows:LowerCorner>
        <ows:UpperCorner>106.22100032789378 -1.6266919579950174</ows:UpperCorner>
      </ows:WGS84BoundingBox>
      <ows:Identifier>spartanobs_ffmc_sumsel</ows:Identifier>
      <Style>
        <ows:Identifier>default</ows:Identifier>
      </Style>
      <Format>image/png</Format>
      <TileMatrixSetLink>
        <TileMatrixSet>bmkg_tms</TileMatrixSet>
      </TileMatrixSetLink>
      <ResourceURL format="image/png" resourceType="tile"
        template="https://peta.odk-online.my.id/wmts/spartanobs_ffmc_sumsel/{TileMatrixSet}/{TileMatrix}/{TileCol}/{TileRow}.png"/>
    </Layer>
    <Layer>
      <ows:Title>DMC - Kekeringan lapisan menengah (Observasi, 05-10-2026) - Sumsel</ows:Title>
      <ows:Abstract></ows:Abstract>
      <ows:WGS84BoundingBox>
        <ows:LowerCorner>102.06400335533776 -4.921522720580933</ows:LowerCorner>
        <ows:UpperCorner>106.22100032789378 -1.6266919579950174</ows:UpperCorner>
      </ows:WGS84BoundingBox>
      <ows:Identifier>spartanobs_dmc_sumsel</ows:Identifier>
      <Style>
        <ows:Identifier>default</ows:Identifier>
      </Style>
      <Format>image/png</Format>
      <TileMatrixSetLink>
        <TileMatrixSet>bmkg_tms</TileMatrixSet>
      </TileMatrixSetLink>
      <ResourceURL format="image/png" resourceType="tile"
        template="https://peta.odk-online.my.id/wmts/spartanobs_dmc_sumsel/{TileMatrixSet}/{TileMatrix}/{TileCol}/{TileRow}.png"/>
    </Layer>
    <Layer>
      <ows:Title>DC - Indeks kekeringan (lapisan bawah) (Observasi, 05-10-2026) - Sumsel</ows:Title>
      <ows:Abstract></ows:Abstract>
      <ows:WGS84BoundingBox>
        <ows:LowerCorner>102.06400335533776 -4.921522720580933</ows:LowerCorner>
        <ows:UpperCorner>106.22100032789378 -1.6266919579950174</ows:UpperCorner>
      </ows:WGS84BoundingBox>
      <ows:Identifier>spartanobs_dc_sumsel</ows:Identifier>
      <Style>
        <ows:Identifier>default</ows:Identifier>
      </Style>
      <Format>image/png</Format>
      <TileMatrixSetLink>
        <TileMatrixSet>bmkg_tms</TileMatrixSet>
      </TileMatrixSetLink>
      <ResourceURL format="image/png" resourceType="tile"
        template="https://peta.odk-online.my.id/wmts/spartanobs_dc_sumsel/{TileMatrixSet}/{TileMatrix}/{TileCol}/{TileRow}.png"/>
    </Layer>
    <Layer>
      <ows:Title>ISI - Laju penjalaran awal api (Observasi, 05-10-2026) - Sumsel</ows:Title>
      <ows:Abstract></ows:Abstract>
      <ows:WGS84BoundingBox>
        <ows:LowerCorner>102.06400335533776 -4.921522720580933</ows:LowerCorner>
        <ows:UpperCorner>106.22100032789378 -1.6266919579950174</ows:UpperCorner>
      </ows:WGS84BoundingBox>
      <ows:Identifier>spartanobs_isi_sumsel</ows:Identifier>
      <Style>
        <ows:Identifier>default</ows:Identifier>
      </Style>
      <Format>image/png</Format>
      <TileMatrixSetLink>
        <TileMatrixSet>bmkg_tms</TileMatrixSet>
      </TileMatrixSetLink>
      <ResourceURL format="image/png" resourceType="tile"
        template="https://peta.odk-online.my.id/wmts/spartanobs_isi_sumsel/{TileMatrixSet}/{TileMatrix}/{TileCol}/{TileRow}.png"/>
    </Layer>
    <Layer>
      <ows:Title>BUI - Ketersediaan bahan bakar (Observasi, 05-10-2026) - Sumsel</ows:Title>
      <ows:Abstract></ows:Abstract>
      <ows:WGS84BoundingBox>
        <ows:LowerCorner>102.06400335533776 -4.921522720580933</ows:LowerCorner>
        <ows:UpperCorner>106.22100032789378 -1.6266919579950174</ows:UpperCorner>
      </ows:WGS84BoundingBox>
      <ows:Identifier>spartanobs_bui_sumsel</ows:Identifier>
      <Style>
        <ows:Identifier>default</ows:Identifier>
      </Style>
      <Format>image/png</Format>
      <TileMatrixSetLink>
        <TileMatrixSet>bmkg_tms</TileMatrixSet>
      </TileMatrixSetLink>
      <ResourceURL format="image/png" resourceType="tile"
        template="https://peta.odk-online.my.id/wmts/spartanobs_bui_sumsel/{TileMatrixSet}/{TileMatrix}/{TileCol}/{TileRow}.png"/>
    </Layer>
    <Layer>
      <ows:Title>FWI - Indeks bahaya kebakaran (Observasi, 05-10-2026) - Sumsel</ows:Title>
      <ows:Abstract></ows:Abstract>
      <ows:WGS84BoundingBox>
        <ows:LowerCorner>102.06400335533776 -4.921522720580933</ows:LowerCorner>
        <ows:UpperCorner>106.22100032789378 -1.6266919579950174</ows:UpperCorner>
      </ows:WGS84BoundingBox>
      <ows:Identifier>spartanobs_fwi_sumsel</ows:Identifier>
      <Style>
        <ows:Identifier>default</ows:Identifier>
      </Style>
      <Format>image/png</Format>
      <TileMatrixSetLink>
        <TileMatrixSet>bmkg_tms</TileMatrixSet>
      </TileMatrixSetLink>
      <ResourceURL format="image/png" resourceType="tile"
        template="https://peta.odk-online.my.id/wmts/spartanobs_fwi_sumsel/{TileMatrixSet}/{TileMatrix}/{TileCol}/{TileRow}.png"/>
    </Layer>
    <TileMatrixSet>
      <ows:Identifier>bmkg_tms</ows:Identifier>
      <ows:SupportedCRS>EPSG:3857</ows:SupportedCRS>
      <TileMatrix>
        <ows:Identifier>00</ows:Identifier>
        <ScaleDenominator>559082264.0287176</ScaleDenominator>
        <TopLeftCorner>-20037508.342789244 20037508.342789244</TopLeftCorner>
        <TileWidth>256</TileWidth>
        <TileHeight>256</TileHeight>
        <MatrixWidth>1</MatrixWidth>
        <MatrixHeight>1</MatrixHeight>
      </TileMatrix>
      <TileMatrix>
        <ows:Identifier>01</ows:Identifier>
        <ScaleDenominator>279541132.0143588</ScaleDenominator>
        <TopLeftCorner>-20037508.342789244 20037508.342789244</TopLeftCorner>
        <TileWidth>256</TileWidth>
        <TileHeight>256</TileHeight>
        <MatrixWidth>2</MatrixWidth>
        <MatrixHeight>2</MatrixHeight>
      </TileMatrix>
      <TileMatrix>
        <ows:Identifier>02</ows:Identifier>
        <ScaleDenominator>139770566.0071794</ScaleDenominator>
        <TopLeftCorner>-20037508.342789244 20037508.34278924</TopLeftCorner>
        <TileWidth>256</TileWidth>
        <TileHeight>256</TileHeight>
        <MatrixWidth>4</MatrixWidth>
        <MatrixHeight>4</MatrixHeight>
      </TileMatrix>
      <TileMatrix>
        <ows:Identifier>03</ows:Identifier>
        <ScaleDenominator>69885283.0035897</ScaleDenominator>
        <TopLeftCorner>-20037508.342789244 20037508.342789248</TopLeftCorner>
        <TileWidth>256</TileWidth>
        <TileHeight>256</TileHeight>
        <MatrixWidth>8</MatrixWidth>
        <MatrixHeight>8</MatrixHeight>
      </TileMatrix>
      <TileMatrix>
        <ows:Identifier>04</ows:Identifier>
        <ScaleDenominator>34942641.50179485</ScaleDenominator>
        <TopLeftCorner>-20037508.342789244 20037508.342789244</TopLeftCorner>
        <TileWidth>256</TileWidth>
        <TileHeight>256</TileHeight>
        <MatrixWidth>16</MatrixWidth>
        <MatrixHeight>16</MatrixHeight>
      </TileMatrix>
      <TileMatrix>
        <ows:Identifier>05</ows:Identifier>
        <ScaleDenominator>17471320.750897426</ScaleDenominator>
        <TopLeftCorner>-20037508.342789244 20037508.34278924</TopLeftCorner>
        <TileWidth>256</TileWidth>
        <TileHeight>256</TileHeight>
        <MatrixWidth>32</MatrixWidth>
        <MatrixHeight>32</MatrixHeight>
      </TileMatrix>
      <TileMatrix>
        <ows:Identifier>06</ows:Identifier>
        <ScaleDenominator>8735660.375448713</ScaleDenominator>
        <TopLeftCorner>-20037508.342789244 20037508.342789248</TopLeftCorner>
        <TileWidth>256</TileWidth>
        <TileHeight>256</TileHeight>
        <MatrixWidth>64</MatrixWidth>
        <MatrixHeight>64</MatrixHeight>
      </TileMatrix>
      <TileMatrix>
        <ows:Identifier>07</ows:Identifier>
        <ScaleDenominator>4367830.187724357</ScaleDenominator>
        <TopLeftCorner>-20037508.342789244 20037508.342789244</TopLeftCorner>
        <TileWidth>256</TileWidth>
        <TileHeight>256</TileHeight>
        <MatrixWidth>128</MatrixWidth>
        <MatrixHeight>128</MatrixHeight>
      </TileMatrix>
      <TileMatrix>
        <ows:Identifier>08</ows:Identifier>
